BEGIN:VCALENDAR
PRODID:-//hacksw/handcal//NONSGML v1.0//EN
VERSION:2.0
METHOD:PUBLISH
BEGIN:VEVENT
DTSTART:20150507T180000Z
DTEND:20150507T190000Z
LOCATION:Courtyard Marriott
UID:1142820150507T180000ZUtah 2015 Legislative Update
DTSTAMP:20260420T183113Z
DESCRIPTION:\nLowry Snow, who is the State Representative for District 74, will be speaking.\n \nPart of the legislative update deals with the uniform power of attorney act, domestic asset protection trust amendments, and probate amendments, see attachments.\n
SUMMARY:Utah 2015 Legislative Update - Southern Utah Estate Planning Council 
PRIORITY:3
BEGIN:VALARM
TRIGGER:PT18H
ACTION:DISPLAY
DESCRIPTION:Reminder
END:VALARM
END:VEVENT
END:VCALENDAR